BEGIN:VCALENDAR

VERSION:2.0

PRODID:-//hacksw/handcal//NONSGML v1.0//EN

BEGIN:VEVENT

UID:4d8b7d82808795af0e25a80e6ce44c6f

DTSTAMP:20210226T151506Z

DTSTART:20210327T000000

DTEND:20210327T000000

SUMMARY:R2-2711674 - 17 Yoolooma Street, Griffith NSW 2680

LOCATION:17 Yoolooma Street, Griffith NSW 2680

END:VEVENT

END:VCALENDAR