BEGIN:VCALENDAR

VERSION:2.0

PRODID:-//hacksw/handcal//NONSGML v1.0//EN

BEGIN:VEVENT

UID:69a0d1cb013ab4d02223fd243e2ef047

DTSTAMP:20210226T154948Z

DTSTART:20210303T170000

DTEND:20210303T173000

SUMMARY:R2-2704235 - 3/35 Coolah Street, Griffith NSW 2680

LOCATION:3/35 Coolah Street, Griffith NSW 2680

END:VEVENT

END:VCALENDAR