BEGIN:VCALENDAR

VERSION:2.0

PRODID:-//hacksw/handcal//NONSGML v1.0//EN

BEGIN:VEVENT

UID:9ef72e71e84c44584569a1d1e987a6ae

DTSTAMP:20210226T155001Z

DTSTART:20210306T110000

DTEND:20210306T112000

SUMMARY:R2-2704235 - 3/35 Coolah Street, Griffith NSW 2680

LOCATION:3/35 Coolah Street, Griffith NSW 2680

END:VEVENT

END:VCALENDAR