BEGIN:VCALENDAR

VERSION:2.0

PRODID:-//hacksw/handcal//NONSGML v1.0//EN

BEGIN:VEVENT

UID:57c5f88df16f57828596486d7b4d27e9

DTSTAMP:20210226T151415Z

DTSTART:20210327T000000

DTEND:20210327T000000

SUMMARY:R2-2704235 - 3/35 Coolah Street, Griffith NSW 2680

LOCATION:3/35 Coolah Street, Griffith NSW 2680

END:VEVENT

END:VCALENDAR